Workbook

Sheet Planilha1
B1: SIMULAÇÃO DE ENQUADRAMENTO
B2: Exclusivo para atividades de transporte Rodoviário de Cargas Perigosas e Resíduos
B6: ENQUADRAMENTO*
B7: ↓ Escolha a atividade de enquadramento no campo a seguir ↓
B9: * ENQUADRAMENTO CONFORME IN Nº 15/2020 DO IEMA
E11: ↓
B12: Escolha o tipo de licença | E12: 1- LAU
B13: =_xlfn.IFNA(VLOOKUP(Planilha2!T4,Planilha2!L2:O5,2),"") | D13: VRTE | E13: =_xlfn.IFNA(Planilha2!T5, 0) -> 0
D14: R$ | E14: =_xlfn.IFNA(Planilha2!T6, 0) -> 0
E16: ↓
B17: Ano(s) adicional(ais)** | D17: 5 + | F17: =_xlfn.TEXTJOIN(" ",TRUE,"(",SUM(5+E17),"anos", ")") -> ( 5 anos )
B18: Valor do adicional da validade | D18: VRTE | E18: =_xlfn.IFNA(Planilha2!V5, 0) -> 0
D19: R$ | E19: =_xlfn.IFNA(Planilha2!V6, 0) -> 0
B20: ** VALIDADE MÍNIMA DE 5 ANOS
E22: ↓
B23: Número Total de Veículos Transportadores por Placa
B24: Número de Veículos Taxados com o "adicional por placa licenciada" *** | E24: =Planilha2!S3 -> 0
B25: Valor do Adicional por placa licenciada² | D25: VRTE | E25: =Planilha2!S5 -> 0
D26: R$ | E26: =Planilha2!S6 -> 0
B27: *** COBRADO QUANDO EXCEDER 10 VEÍCULOS
B31: TAXAS¹ | E31: VRTE¹ | F31: VALOR (R$)
B32: LAU para Transporte de produtos ou resíduos perigosos | E32: 321 | F32: =E32*Planilha2!$O$7 -> 1585.1943
B33: + 20% para cada ano adicional (de 6 a 10 anos) - LAU produtos e resíduos perigosos | E33: =E32*0.2 -> 64.2 | F33: =E33*Planilha2!$O$7 -> 317.03886
B34: LAU para Transporte de produtos ou resíduos perigosos - regularização | E34: 482 | F34: =E34*Planilha2!$O$7 -> 2380.2606
B35: LAU para Transporte de resíduos não perigosos | E35: 230 | F35: =E35*Planilha2!$O$7 -> 1135.809
B36: + 20% para cada ano adicional (de 6 a 10 anos) - resíduos não perigosos | E36: =E35*0.2 -> 46 | F36: =E36*Planilha2!$O$7 -> 227.1618
B37: LAU para Transporte de resíduos não perigosos - regularização | E37: 345 | F37: =E37*Planilha2!$O$7 -> 1703.7135
B38: Adicional por placa licenciada² | E38: 5 | F38: =E38*Planilha2!$O$7 -> 24.6915
B39: ¹ VALORES DAS TAXAS EM VRTE CONFORME LEI ESTADUAL Nº 7001/2001 ¹ VRTE (VALOR DE REFERENCIA DO TESOURO ESTADUAL). ANO DE 2026 = R$ 4,9383 ² PAGO SOMENTE NOS CASOS SUPERIORES A 10 VEÍCULOS. MULTIPLICAR ESTE VALOR PELO NÚMERO DE VEÍCULOS QUE EXCEDEREM 10
B43: =TODAY() -> 46274 | E43: ASSINATURA

Sheet Planilha2
B1: ENQ. | C1: ENQ. DESCRIÇÃO | F1: ENQ. LISTA | G1: REF | I1: TIPO DE LICENÇA | J1: REF | L1: REF | M1: TAXAS** | N1: VRTE | O1: VALOR (R$) | Q1: CÁLCULO
B2: 23.01 | C2: Transporte rodoviário de produtos perigosos, exceto transporte interestadual e de material radioativo ou agrotóxicos | F2: 23.01 - Transporte rodoviário de produtos perigosos, exceto transporte interestadual e de material radioativo ou agrotóxicos | G2: 10 | I2: 1- LAU | J2: 1 | L2: 11 | M2: Licença Ambiental Única para Transporte de produtos ou resíduos perigosos | N2: 321 | O2: =N2*$O$7 -> 1585.1943 | R2: Valor enq. | S2: Adic. Veic. | T2: Tipo Lic. | U2: TOTAL | V2: 0.2
B3: 23.02 | C3: Transporte rodoviário de agrotóxicos e equivalentes, incluindo saneantes domissanitários, para aplicação no controle de pragas e vetores e para uso em desinsetização, fumigação e expurgo, exceto transporte interestadual e de material radioativo | F3: 23.02 - Transporte rodoviário de agrotóxicos e equivalentes, incluindo saneantes domissanitários, para aplicação no controle de pragas e vetores e para uso em desinsetização, fumigação e expurgo, exceto transporte interestadual e de material radioativo | G3: 10 | I3: 2- LAU Regularização | J3: 2 | L3: 12 | M3: Licença Ambiental Única para Transporte de produtos ou resíduos perigosos - regularização | N3: 482 | O3: =N3*$O$7 -> 2380.2606 | R3: =IF(Planilha1!B8="",0,VALUE(MID(Planilha1!B8,5,1))) -> 0 | S3: =IF(Planilha1!E23<11,0,Planilha1!E23-10) -> 0 | T3: =IF(OR(Planilha1!B8="",Planilha1!E12=""),0,VALUE(MID(Planilha1!E12,1,1))) -> 0 | V3: =Planilha1!E17 -> 0
B4: 23.03 | C4: Coleta e transporte rodoviário de resíduos perigosos, exceto transporte interestadual e de material radioativo e/ou óleo lubrificante usado e/ou contaminado (OLUC) | F4: 23.03 - Coleta e transporte rodoviário de resíduos perigosos, exceto transporte interestadual e de material radioativo e/ou óleo lubrificante usado e/ou contaminado (OLUC) | G4: 10 | L4: 21 | M4: Licença Ambiental Única para Transporte de resíduos não perigosos | N4: 230 | O4: =N4*$O$7 -> 1135.809 | Q4: REF | R4: =IF(AND(R3<6,R3>0),10,IF(R3>=6,20,0)) -> 0 | T4: =R4+T3 -> 0
B5: 23.04 | C5: Coleta e transporte rodoviário de resíduos de serviços de saúde, exceto transporte interestadual e de material radioativo | F5: 23.04 - Coleta e transporte rodoviário de resíduos de serviços de saúde, exceto transporte interestadual e de material radioativo | G5: 10 | L5: 22 | M5: Licença Ambiental Única para Transporte de resíduos não perigosos - regularização | N5: 345 | O5: =N5*$O$7 -> 1703.7135 | Q5: VRTE | R5: =IF(R4=10,N2,IF(R4=20,N4,0)) -> 0 | S5: =S3*N6 -> 0 | T5: =VLOOKUP(T4,L2:O5,3) -> #N/A | U5: =T5+S5 -> #N/A | V5: =IF($T$3=1,($V$3*0.2*T5),(IF($T$3=2,"não permitido",0))) -> 0
B6: 23.05 | C6: Coleta e transporte rodoviário de óleo lubrificante usado e/ou contaminado (OLUC), exceto transporte interestadual | F6: 23.05 - Coleta e transporte rodoviário de óleo lubrificante usado e/ou contaminado (OLUC), exceto transporte interestadual | G6: 10 | M6: Adicional por placa licenciada*** | N6: 5 | O6: =N6*$O$7 -> 24.6915 | Q6: R$ | R6: =IF(R4=10,O2,IF(R4=20,O4,0)) -> 0 | S6: =S3*O6 -> 0 | T6: =VLOOKUP(T4,L2:O5,4) -> #N/A | U6: =T6+S6 -> #N/A | V6: =IF($T$3=1,($V$3*0.2*T6),(IF($T$3=2,"não permitido",0))) -> 0
B7: 23.06 | C7: Coleta e transporte rodoviário de resíduos sólidos urbanos classificados como lixo domiciliar e equiparados | F7: 23.06 - Coleta e transporte rodoviário de resíduos sólidos urbanos classificados como lixo domiciliar e equiparados | G7: 20 | M7: VRTE 2026 | N7: 1 | O7: 4.9383 | R7: =IF(R6=R5*$O$7,TRUE,FALSE) -> TRUE | S7: =IF(S6=S5*$O$7,TRUE,FALSE) -> TRUE | T7: =IF(T6=T5*$O$7,TRUE,FALSE) -> #N/A | U7: =IF(U6=U5*$O$7,TRUE,FALSE) -> #N/A | V7: =IF(V6=V5*$O$7,TRUE,FALSE) -> TRUE
B8: 23.07 | C8: Coleta e transporte rodoviário de resíduos sólidos não perigosos oriundos da construção civil nos termos da Resolução Conama 307/2002 | F8: 23.07 - Coleta e transporte rodoviário de resíduos sólidos não perigosos oriundos da construção civil nos termos da Resolução Conama 307/2002 | G8: 20
B9: 23.08 | C9: Coleta e transporte rodoviário de resíduos não perigosos (Classe II), exceto resíduos sólidos urbanos e oriundos da construção civil | F9: 23.08 - Coleta e transporte rodoviário de resíduos não perigosos (Classe II), exceto resíduos sólidos urbanos e oriundos da construção civil | G9: 20
B10: 23.09 | C10: Coleta e transporte rodoviário de líquidos e semi-sólidos provenientes de limpeza de redes de drenagem pluvial, de sanitários portáteis e de sistemas individuais de tratamento de esgoto doméstico (limpa-fossa), exceto Classe I | F10: 23.09 - Coleta e transporte rodoviário de líquidos e semi-sólidos provenientes de limpeza de redes de drenagem pluvial, de sanitários portáteis e de sistemas individuais de tratamento de esgoto doméstico (limpa-fossa), exceto Classe I | G10: 20
